BEGIN:VCALENDAR
VERSION:2.0
PRODID:https://www.immunosensation.de/
NAME:Immunosensation
X-WR-CALNAME:Immunosensation
BEGIN:VTIMEZONE
TZID:Europe/Berlin
BEGIN:STANDARD
DTSTART:20231029T030000
TZOFFSETFROM:+0200
TZOFFSETTO:+0100
END:STANDARD
BEGIN:DAYLIGHT
DTSTART:20240331T010000
TZOFFSETFROM:+0100
TZOFFSETTO:+0200
END:DAYLIGHT
END:VTIMEZONE
BEGIN:VTIMEZONE
TZID:UTC
BEGIN:STANDARD
DTSTART:20250724T083014
TZOFFSETFROM:+0000
TZOFFSETTO:+0000
END:STANDARD
END:VTIMEZONE
BEGIN:VEVENT
UID:69e5e41665090
DTSTAMP:20260420T083014Z
SUMMARY:Cluster Alumni Talk
DESCRIPTION:Understanding T cell differentiation to design next-generation 
 cell therapies
LOCATION:Seminar room\, BMZ 2\, Venusberg-Campus
URL:https://www.immunosensation.de/events/spatial-biology-club-2
DTSTART;TZID=Europe/Berlin:20240418T120000
DTEND;TZID=Europe/Berlin:20240418T130000
END:VEVENT
END:VCALENDAR