BEGIN:VCALENDAR
VERSION:2.0
PRODID:https://www.immunosensation.de/
NAME:Immunosensation
X-WR-CALNAME:Immunosensation
BEGIN:VTIMEZONE
TZID:Europe/Berlin
BEGIN:STANDARD
DTSTART:20231029T030000
TZOFFSETFROM:+0200
TZOFFSETTO:+0100
END:STANDARD
BEGIN:DAYLIGHT
DTSTART:20240331T010000
TZOFFSETFROM:+0100
TZOFFSETTO:+0200
END:DAYLIGHT
BEGIN:STANDARD
DTSTART:20241027T030000
TZOFFSETFROM:+0200
TZOFFSETTO:+0100
END:STANDARD
END:VTIMEZONE
BEGIN:VTIMEZONE
TZID:UTC
BEGIN:STANDARD
DTSTART:20250724T083058
TZOFFSETFROM:+0000
TZOFFSETTO:+0000
END:STANDARD
END:VTIMEZONE
BEGIN:VEVENT
UID:69e5e4428c27f
DTSTAMP:20260420T083058Z
SUMMARY:Cluster Lecture Series
DESCRIPTION:Human mononuclear phagocyte kinetics in health and inflammation
  by Simon Yona\, Group leader at the Institute of Biomedical & Oral Resear
 ch\, Hebrew University\, Jerusalem
LOCATION:BMZ I\, Lecture Hall
URL:https://www.immunosensation.de/events/immuno-talk-11
DTSTART;TZID=Europe/Berlin:20240709T110000
DTEND;TZID=Europe/Berlin:20240709T120000
END:VEVENT
END:VCALENDAR