BEGIN:VCALENDAR
VERSION:2.0
PRODID:https://www.immunosensation.de/
NAME:Immunosensation
X-WR-CALNAME:Immunosensation
BEGIN:VTIMEZONE
TZID:Europe/Berlin
BEGIN:STANDARD
DTSTART:20251026T030000
TZOFFSETFROM:+0200
TZOFFSETTO:+0100
END:STANDARD
BEGIN:DAYLIGHT
DTSTART:20260329T010000
TZOFFSETFROM:+0100
TZOFFSETTO:+0200
END:DAYLIGHT
BEGIN:STANDARD
DTSTART:20261025T030000
TZOFFSETFROM:+0200
TZOFFSETTO:+0100
END:STANDARD
END:VTIMEZONE
BEGIN:VTIMEZONE
TZID:UTC
BEGIN:STANDARD
DTSTART:20250724T145403
TZOFFSETFROM:+0000
TZOFFSETTO:+0000
END:STANDARD
END:VTIMEZONE
BEGIN:VEVENT
UID:69e63e0b2c8e9
DTSTAMP:20260420T145403Z
SUMMARY:Lecture by Christian Zierhut
DESCRIPTION:Christian Zierhut\, PhD\, Genomes Stability and innate Immunity
 \, Institute for Cancer Research London is giving a talk titled: Principle
 s of cGAS activation by DNA damage and chromosomal instability revealed by
  a versatile cGAMP reporter.
LOCATION: Lecture Hall (A010.EG.006)\, Teaching Building
URL:https://www.immunosensation.de/events/lecture-by-christian-zierhut
DTSTART;TZID=Europe/Berlin:20260505T130000
DTEND;TZID=Europe/Berlin:20260505T140000
END:VEVENT
END:VCALENDAR