BEGIN:VCALENDAR
VERSION:2.0
PRODID:https://www.immunosensation.de/
NAME:Immunosensation
X-WR-CALNAME:Immunosensation
BEGIN:VTIMEZONE
TZID:Europe/Berlin
BEGIN:STANDARD
DTSTART:20231029T030000
TZOFFSETFROM:+0200
TZOFFSETTO:+0100
END:STANDARD
BEGIN:DAYLIGHT
DTSTART:20240331T010000
TZOFFSETFROM:+0100
TZOFFSETTO:+0200
END:DAYLIGHT
END:VTIMEZONE
BEGIN:VTIMEZONE
TZID:UTC
BEGIN:STANDARD
DTSTART:20250724T083000
TZOFFSETFROM:+0000
TZOFFSETTO:+0000
END:STANDARD
END:VTIMEZONE
BEGIN:VEVENT
UID:69e5e40858bbc
DTSTAMP:20260420T083000Z
SUMMARY:Spatial Biology Club Bonn Cancelled!
DESCRIPTION:Transcriptional and spatial control of tumour-associated macrop
 hages
LOCATION:Life and Medical Sciences Institute\, Seminar room
URL:https://www.immunosensation.de/events/spatial-biology-club-bonn
DTSTART;TZID=Europe/Berlin:20240319T163000
DTEND;TZID=Europe/Berlin:20240319T173000
END:VEVENT
END:VCALENDAR